BEGIN:VCALENDAR
VERSION:2.0
PRODID:-//www.gramonet.cz//GramonetCalLib 1.0//EN
CALSCALE:GREGORIAN
METHOD:PUBLISH
BEGIN:VEVENT
SUMMARY:Na Vánoce budu gay
LOCATION:Dusíkovo divadlo Čáslav
DTSTART:20251124T000000
DTEND:20251125T000000
UID:2026-04-19-19-34-24@infocaslav.cz
DTSTAMP:20260419T173424
Description:
END:VEVENT
END:VCALENDAR
