BEGIN:VCALENDAR
VERSION:2.0
PRODID:-//www.gramonet.cz//GramonetCalLib 1.0//EN
CALSCALE:GREGORIAN
METHOD:PUBLISH
BEGIN:VEVENT
SUMMARY:Na Žižkově v jednom domě aneb bejvali Čechové...
LOCATION:Dusíkovo divadlo Čáslav
DTSTART:20251010T000000
DTEND:20251011T000000
UID:2026-04-19-19-28-02@infocaslav.cz
DTSTAMP:20260419T172802
Description:
END:VEVENT
END:VCALENDAR
