BEGIN:VCALENDAR
VERSION:2.0
PRODID:-//www.gramonet.cz//GramonetCalLib 1.0//EN
CALSCALE:GREGORIAN
METHOD:PUBLISH
BEGIN:VEVENT
SUMMARY:NEDĚLNÍ OŽIVENÉ PROHLÍDKY ZÁMKU KAČINA
LOCATION:NZM Kačina – Svatý Mikuláš 51
DTSTART:20240714T000000
DTEND:20240715T000000
UID:2026-04-19-19-36-47@infocaslav.cz
DTSTAMP:20260419T173647
Description:
END:VEVENT
END:VCALENDAR
