BEGIN:VCALENDAR
VERSION:2.0
PRODID:-//www.gramonet.cz//GramonetCalLib 1.0//EN
CALSCALE:GREGORIAN
METHOD:PUBLISH
BEGIN:VEVENT
SUMMARY:Nekonečná noc ve sklárně v Tasicích
LOCATION:Huť Jakub, Tasice 1
DTSTART:20220625T000000
DTEND:20220627T000000
UID:2026-04-19-21-07-18@infocaslav.cz
DTSTAMP:20260419T190718
Description:
END:VEVENT
END:VCALENDAR
