BEGIN:VCALENDAR
VERSION:2.0
PRODID:-//www.gramonet.cz//GramonetCalLib 1.0//EN
CALSCALE:GREGORIAN
METHOD:PUBLISH
BEGIN:VEVENT
SUMMARY:Nišma klezmer trio
LOCATION:synagoga Čáslav
DTSTART:20260308T000000
DTEND:20260309T000000
UID:2026-04-19-19-26-35@infocaslav.cz
DTSTAMP:20260419T172635
Description:
END:VEVENT
END:VCALENDAR
