BEGIN:VCALENDAR
VERSION:2.0
PRODID:-//www.gramonet.cz//GramonetCalLib 1.0//EN
CALSCALE:GREGORIAN
METHOD:PUBLISH
BEGIN:VEVENT
SUMMARY:NITRAM
LOCATION:Kino Miloše Formana, Jeníkovská 138/25
DTSTART:20220219T000000
DTEND:20220220T000000
UID:2026-04-19-19-28-49@infocaslav.cz
DTSTAMP:20260419T172849
Description:
END:VEVENT
END:VCALENDAR
