BEGIN:VCALENDAR
VERSION:2.0
PRODID:-//www.gramonet.cz//GramonetCalLib 1.0//EN
CALSCALE:GREGORIAN
METHOD:PUBLISH
BEGIN:VEVENT
SUMMARY:Noc a den v DDM
LOCATION:Dům dětí a mládeže Čáslav
DTSTART:20250130T000000
DTEND:20250201T000000
UID:2026-04-19-21-04-06@infocaslav.cz
DTSTAMP:20260419T190406
Description:
END:VEVENT
END:VCALENDAR
