BEGIN:VCALENDAR
VERSION:2.0
PRODID:-//www.gramonet.cz//GramonetCalLib 1.0//EN
CALSCALE:GREGORIAN
METHOD:PUBLISH
BEGIN:VEVENT
SUMMARY:Noc literatury
LOCATION:
DTSTART:20230920T000000
DTEND:20230921T000000
UID:2026-04-19-19-31-30@infocaslav.cz
DTSTAMP:20260419T173130
Description:
END:VEVENT
END:VCALENDAR
