BEGIN:VCALENDAR
VERSION:2.0
PRODID:-//www.gramonet.cz//GramonetCalLib 1.0//EN
CALSCALE:GREGORIAN
METHOD:PUBLISH
BEGIN:VEVENT
SUMMARY:Noc literatury
LOCATION:Čáslav knihovna, muzeum a bašta
DTSTART:20240918T000000
DTEND:20240919T000000
UID:2026-04-19-19-31-21@infocaslav.cz
DTSTAMP:20260419T173121
Description:V uvedených časech probíhá čtení vždy současně. Začn
 te na libovolném místě. Knihovna 18:15 čte Vojtěch Hrabák. Muzeum 1
 9:00 čte Nela Boudová. Bašta 19:45 čte Antonie Formanová.
END:VEVENT
END:VCALENDAR
