BEGIN:VCALENDAR
VERSION:2.0
PRODID:-//www.gramonet.cz//GramonetCalLib 1.0//EN
CALSCALE:GREGORIAN
METHOD:PUBLISH
BEGIN:VEVENT
SUMMARY:Noc literatury
LOCATION:Městská knihovna Čáslav, Kostelní nám. 197
DTSTART:20250917T000000
DTEND:20250918T000000
UID:2026-04-19-19-26-14@infocaslav.cz
DTSTAMP:20260419T172614
Description:
END:VEVENT
END:VCALENDAR
