BEGIN:VCALENDAR
VERSION:2.0
PRODID:-//www.gramonet.cz//GramonetCalLib 1.0//EN
CALSCALE:GREGORIAN
METHOD:PUBLISH
BEGIN:VEVENT
SUMMARY:Noc s Andersenem
LOCATION:Kostelní náměstí 197/11
DTSTART:20220401T000000
DTEND:20220402T000000
UID:2026-04-19-21-02-29@infocaslav.cz
DTSTAMP:20260419T190229
Description:
END:VEVENT
END:VCALENDAR
