BEGIN:VCALENDAR
VERSION:2.0
PRODID:-//www.gramonet.cz//GramonetCalLib 1.0//EN
CALSCALE:GREGORIAN
METHOD:PUBLISH
BEGIN:VEVENT
SUMMARY:Noc Sokoloven
LOCATION:Sokolovna Čáslav
DTSTART:20240927T000000
DTEND:20240928T000000
UID:2026-04-19-21-04-55@infocaslav.cz
DTSTAMP:20260419T190455
Description:T.J. Sokol Čáslav pořádá akci Noc Sokoloven\, která prob
 hne 27.09. 2024 od 16:30 v Sokolovně Čáslav. Máte se na co těšit\, 
 soutěž ve šplhu o tyči\, ukázka ping-pongu\, program pro děti a hry\
 , loutkové divadlo a večerní šipkovaná. :)
END:VEVENT
END:VCALENDAR
