BEGIN:VCALENDAR
VERSION:2.0
PRODID:-//www.gramonet.cz//GramonetCalLib 1.0//EN
CALSCALE:GREGORIAN
METHOD:PUBLISH
BEGIN:VEVENT
SUMMARY:NOC SOKOLOVEN
LOCATION:Sokolovna Čáslav, Masarykova 471/34
DTSTART:20220624T000000
DTEND:20220625T000000
UID:2026-04-19-19-31-28@infocaslav.cz
DTSTAMP:20260419T173128
Description:
END:VEVENT
END:VCALENDAR
