BEGIN:VCALENDAR
VERSION:2.0
PRODID:-//www.gramonet.cz//GramonetCalLib 1.0//EN
CALSCALE:GREGORIAN
METHOD:PUBLISH
BEGIN:VEVENT
SUMMARY:O LÁSCE
LOCATION:Dusíkovo divadlo
DTSTART:20231115T000000
DTEND:20231116T000000
UID:2026-04-19-21-00-16@infocaslav.cz
DTSTAMP:20260419T190016
Description:
END:VEVENT
END:VCALENDAR
