BEGIN:VCALENDAR
VERSION:2.0
PRODID:-//www.gramonet.cz//GramonetCalLib 1.0//EN
CALSCALE:GREGORIAN
METHOD:PUBLISH
BEGIN:VEVENT
SUMMARY:Pozvánka k oslavám 30-ti let Oblastní charity KH a 18-ti let Rod
 inného centra Kopretina v Čáslavi
LOCATION:Čáslav, Kostel sv. Petra a Pavla, fara a učebna RC Kopretina
DTSTART:20240921T000000
DTEND:20240922T000000
UID:2026-04-19-19-35-52@infocaslav.cz
DTSTAMP:20260419T173552
Description:Přijměte srdečné pozvání k oslavám 30-ti let Oblastní c
 harity Kutná Hora a 18-ti let Rodinného centra Kopretina v Čáslavi. Os
 lavy proběhnout 21. září\, začátek bohatého programu je od 9:00 mš
 í v kostele sv. Petra a Pavla.
END:VEVENT
END:VCALENDAR
