BEGIN:VCALENDAR
VERSION:2.0
PRODID:-//www.gramonet.cz//GramonetCalLib 1.0//EN
CALSCALE:GREGORIAN
METHOD:PUBLISH
BEGIN:VEVENT
SUMMARY:OBRAZY
LOCATION:Galerie městského muzea
DTSTART:20231106T000000
DTEND:20240331T000000
UID:2026-04-19-19-28-44@infocaslav.cz
DTSTAMP:20260419T172844
Description:Možnost zakoupení nové knihy Kamila: grafika\, instalace\, m
 alba.\nVernisáž dne 6. listopadu v 17 hod.
END:VEVENT
END:VCALENDAR
