BEGIN:VCALENDAR
VERSION:2.0
PRODID:-//www.gramonet.cz//GramonetCalLib 1.0//EN
CALSCALE:GREGORIAN
METHOD:PUBLISH
BEGIN:VEVENT
SUMMARY:Ochotnické divadlo - Maloměstské klepny
LOCATION:Sokolovna Paběnice
DTSTART:20240503T000000
DTEND:20240512T000000
UID:2026-04-19-19-36-43@infocaslav.cz
DTSTAMP:20260419T173643
Description:
END:VEVENT
END:VCALENDAR
