BEGIN:VCALENDAR
VERSION:2.0
PRODID:-//www.gramonet.cz//GramonetCalLib 1.0//EN
CALSCALE:GREGORIAN
METHOD:PUBLISH
BEGIN:VEVENT
SUMMARY:Ochutnávka čokolády - Čokoládovna Janek
LOCATION:Zámek Vilémov
DTSTART:20240112T000000
DTEND:20240113T000000
UID:2026-04-19-19-36-48@infocaslav.cz
DTSTAMP:20260419T173648
Description:
END:VEVENT
END:VCALENDAR
