BEGIN:VCALENDAR
VERSION:2.0
PRODID:-//www.gramonet.cz//GramonetCalLib 1.0//EN
CALSCALE:GREGORIAN
METHOD:PUBLISH
BEGIN:VEVENT
SUMMARY:Ochutnávka míchaných nápojů
LOCATION:Hlízov
DTSTART:20230715T000000
DTEND:20230716T000000
UID:2026-04-19-19-35-41@infocaslav.cz
DTSTAMP:20260419T173541
Description:
END:VEVENT
END:VCALENDAR
