BEGIN:VCALENDAR
VERSION:2.0
PRODID:-//www.gramonet.cz//GramonetCalLib 1.0//EN
CALSCALE:GREGORIAN
METHOD:PUBLISH
BEGIN:VEVENT
SUMMARY:Odpuštění a smíření - Ladislav Heryán
LOCATION:Komenského síň
DTSTART:20230321T000000
DTEND:20230322T000000
UID:2026-04-19-19-36-21@infocaslav.cz
DTSTAMP:20260419T173621
Description:
END:VEVENT
END:VCALENDAR
