BEGIN:VCALENDAR
VERSION:2.0
PRODID:-//www.gramonet.cz//GramonetCalLib 1.0//EN
CALSCALE:GREGORIAN
METHOD:PUBLISH
BEGIN:VEVENT
SUMMARY:Ohnivý polibek
LOCATION:Divadlo
DTSTART:20230512T000000
DTEND:20230627T000000
UID:2026-04-19-19-30-45@infocaslav.cz
DTSTAMP:20260419T173045
Description:
END:VEVENT
END:VCALENDAR
