BEGIN:VCALENDAR
VERSION:2.0
PRODID:-//www.gramonet.cz//GramonetCalLib 1.0//EN
CALSCALE:GREGORIAN
METHOD:PUBLISH
BEGIN:VEVENT
SUMMARY:Okvětní plátky dní
LOCATION:Dusíkovo divadlo Čáslav
DTSTART:20250204T000000
DTEND:20250205T000000
UID:2026-04-19-19-34-37@infocaslav.cz
DTSTAMP:20260419T173437
Description:
END:VEVENT
END:VCALENDAR
