BEGIN:VCALENDAR
VERSION:2.0
PRODID:-//www.gramonet.cz//GramonetCalLib 1.0//EN
CALSCALE:GREGORIAN
METHOD:PUBLISH
BEGIN:VEVENT
SUMMARY:Ondřej Vetchý a Michal Novotný... jak je neznáte!
LOCATION:společenský sál Hotelu grand Čáslav
DTSTART:20260429T000000
DTEND:20260430T000000
UID:2026-04-19-19-28-01@infocaslav.cz
DTSTAMP:20260419T172801
Description:
END:VEVENT
END:VCALENDAR
