BEGIN:VCALENDAR
VERSION:2.0
PRODID:-//www.gramonet.cz//GramonetCalLib 1.0//EN
CALSCALE:GREGORIAN
METHOD:PUBLISH
BEGIN:VEVENT
SUMMARY:Operace ONTERO 2. díl
LOCATION:Nová scéna, Dusíkovo divadlo
DTSTART:20221213T000000
DTEND:20221214T000000
UID:2026-04-19-21-03-26@infocaslav.cz
DTSTAMP:20260419T190326
Description:
END:VEVENT
END:VCALENDAR
