BEGIN:VCALENDAR
VERSION:2.0
PRODID:-//www.gramonet.cz//GramonetCalLib 1.0//EN
CALSCALE:GREGORIAN
METHOD:PUBLISH
BEGIN:VEVENT
SUMMARY:Oslava Dne země
LOCATION:Terénní stanice ZO ČSOP 42/05 Chotěboř v Sobíňově
DTSTART:20240420T000000
DTEND:20240421T000000
UID:2026-04-19-19-32-40@infocaslav.cz
DTSTAMP:20260419T173240
Description:
END:VEVENT
END:VCALENDAR
