BEGIN:VCALENDAR
VERSION:2.0
PRODID:-//www.gramonet.cz//GramonetCalLib 1.0//EN
CALSCALE:GREGORIAN
METHOD:PUBLISH
BEGIN:VEVENT
SUMMARY:Oslava konce 2. světové války
LOCATION:náměstí Jana Žižky
DTSTART:20220511T000000
DTEND:20220512T000000
UID:2026-04-19-19-36-23@infocaslav.cz
DTSTAMP:20260419T173623
Description:
END:VEVENT
END:VCALENDAR
