BEGIN:VCALENDAR
VERSION:2.0
PRODID:-//www.gramonet.cz//GramonetCalLib 1.0//EN
CALSCALE:GREGORIAN
METHOD:PUBLISH
BEGIN:VEVENT
SUMMARY:Oslavy 3. výročí Muzea Technických zajímavostí
LOCATION:Čáslavská Muzeální Dráha
DTSTART:20230930T000000
DTEND:20231001T000000
UID:2026-04-19-19-36-09@infocaslav.cz
DTSTAMP:20260419T173609
Description:Srdečně Vás zveme na oslavy 3. výročí Muzea Technických 
 Zajímavostí\, které se budou konat na vlečce Kosmos Čáslav.
END:VEVENT
END:VCALENDAR
