BEGIN:VCALENDAR
VERSION:2.0
PRODID:-//www.gramonet.cz//GramonetCalLib 1.0//EN
CALSCALE:GREGORIAN
METHOD:PUBLISH
BEGIN:VEVENT
SUMMARY:Oslavy 4. výročí Muzea Technických Zajímavostí 5. 10. 2024
LOCATION:Na vlečce Kosmos Čáslav
DTSTART:20241005T000000
DTEND:20241006T000000
UID:2026-04-19-21-08-34@infocaslav.cz
DTSTAMP:20260419T190834
Description:Oslavy 4. výročí Muzea Technických Zajímavostí se konají
  5. 10. 2024 na vlečce Kosmos Čáslav od 10-16 hod. Můžete se těšit 
 na jízdu po vlečce historickou lokomotivou a motorovým vozem\, výstavu
  historických železničních vozidel a i občerstvení je zajištěno ve
  voze WR.
END:VEVENT
END:VCALENDAR
