BEGIN:VCALENDAR
VERSION:2.0
PRODID:-//www.gramonet.cz//GramonetCalLib 1.0//EN
CALSCALE:GREGORIAN
METHOD:PUBLISH
BEGIN:VEVENT
SUMMARY:Oslavy školy k 70. výročí vzniku
LOCATION:SPŠ Čáslav
DTSTART:20221022T000000
DTEND:20221023T000000
UID:2026-04-19-19-36-09@infocaslav.cz
DTSTAMP:20260419T173609
Description:
END:VEVENT
END:VCALENDAR
