BEGIN:VCALENDAR
VERSION:2.0
PRODID:-//www.gramonet.cz//GramonetCalLib 1.0//EN
CALSCALE:GREGORIAN
METHOD:PUBLISH
BEGIN:VEVENT
SUMMARY:Osudy Romů za druhé světové války
LOCATION:Městské muzeum a knihovna Čáslav
DTSTART:20250522T000000
DTEND:20250701T000000
UID:2026-04-19-19-36-41@infocaslav.cz
DTSTAMP:20260419T173641
Description:
END:VEVENT
END:VCALENDAR
