BEGIN:VCALENDAR
VERSION:2.0
PRODID:-//www.gramonet.cz//GramonetCalLib 1.0//EN
CALSCALE:GREGORIAN
METHOD:PUBLISH
BEGIN:VEVENT
SUMMARY:Otevření atletické dráhy
LOCATION:Sportovní areál, Třemošnice
DTSTART:20230920T000000
DTEND:20230921T000000
UID:2026-04-19-19-34-17@infocaslav.cz
DTSTAMP:20260419T173417
Description:Oficiální otevření zrekonstruované atletické a in-line dr
 áhy od 16 hodin.
END:VEVENT
END:VCALENDAR
