BEGIN:VCALENDAR
VERSION:2.0
PRODID:-//www.gramonet.cz//GramonetCalLib 1.0//EN
CALSCALE:GREGORIAN
METHOD:PUBLISH
BEGIN:VEVENT
SUMMARY:Znovuotevření Gumárny
LOCATION:Klub Gumárna
DTSTART:20230922T000000
DTEND:20230923T000000
UID:2026-04-19-19-33-05@infocaslav.cz
DTSTAMP:20260419T173305
Description:Klub Gumárna zve na znovuotevření pod názvem Gumárna By Be
 jkn. \nNa návštěvníky po celý první víkend čeká Rebel 12° za pou
 hých 25 Kč a 1 hodina bowlingu za 150 Kč. Můžete se těšit na nové 
 míchané drinky\, ale i na klasiku jako Tupadelský ležák 11° a Radega
 st rázná 10°. Již v pátek 22. 9. od 17:00 v Gumárně. Tady nesmíte 
 chybět!
END:VEVENT
END:VCALENDAR
