BEGIN:VCALENDAR
VERSION:2.0
PRODID:-//www.gramonet.cz//GramonetCalLib 1.0//EN
CALSCALE:GREGORIAN
METHOD:PUBLISH
BEGIN:VEVENT
SUMMARY:Pálení čarodějnic 2024
LOCATION:Muzeum zemědělské techniky Čáslav
DTSTART:20240430T000000
DTEND:20240501T000000
UID:2026-04-19-19-31-10@infocaslav.cz
DTSTAMP:20260419T173110
Description:UPOZORNĚNÍ: Kvůli výstrahám ČHMÚ není možné rozdělá
 vání ohně v otevřeném prostranství na území Středočeského kraje
 \, tedy i Pálení čarodějnic se letos bude muset obejít bez ohňů.
END:VEVENT
END:VCALENDAR
