BEGIN:VCALENDAR
VERSION:2.0
PRODID:-//www.gramonet.cz//GramonetCalLib 1.0//EN
CALSCALE:GREGORIAN
METHOD:PUBLISH
BEGIN:VEVENT
SUMMARY:Pálení Čarodějnic 2023
LOCATION:NZM Čáslav
DTSTART:20230430T000000
DTEND:20230501T000000
UID:2026-04-19-21-04-55@infocaslav.cz
DTSTAMP:20260419T190455
Description:
END:VEVENT
END:VCALENDAR
