BEGIN:VCALENDAR
VERSION:2.0
PRODID:-//www.gramonet.cz//GramonetCalLib 1.0//EN
CALSCALE:GREGORIAN
METHOD:PUBLISH
BEGIN:VEVENT
SUMMARY:Pálení čarodějnic
LOCATION:Národní zemědělské muzeum Čáslav
DTSTART:20260430T000000
DTEND:20260501T000000
UID:2026-04-19-19-26-16@infocaslav.cz
DTSTAMP:20260419T172616
Description:
END:VEVENT
END:VCALENDAR
