BEGIN:VCALENDAR
VERSION:2.0
PRODID:-//www.gramonet.cz//GramonetCalLib 1.0//EN
CALSCALE:GREGORIAN
METHOD:PUBLISH
BEGIN:VEVENT
SUMMARY:Pálení čarodějnic - Žďárec u Seče
LOCATION:Žďárec u Seče
DTSTART:20240430T000000
DTEND:20240501T000000
UID:2026-04-19-19-36-01@infocaslav.cz
DTSTAMP:20260419T173601
Description:
END:VEVENT
END:VCALENDAR
