BEGIN:VCALENDAR
VERSION:2.0
PRODID:-//www.gramonet.cz//GramonetCalLib 1.0//EN
CALSCALE:GREGORIAN
METHOD:PUBLISH
BEGIN:VEVENT
SUMMARY:Paleontolog Zdeněk Špinar
LOCATION:Nová scéna Dusíkova divadla Čáslav
DTSTART:20260414T000000
DTEND:20260415T000000
UID:2026-04-19-19-26-30@infocaslav.cz
DTSTAMP:20260419T172630
Description:
END:VEVENT
END:VCALENDAR
