BEGIN:VCALENDAR
VERSION:2.0
PRODID:-//www.gramonet.cz//GramonetCalLib 1.0//EN
CALSCALE:GREGORIAN
METHOD:PUBLISH
BEGIN:VEVENT
SUMMARY:Památný den sokolstva
LOCATION:
DTSTART:20231008T000000
DTEND:20231009T000000
UID:2026-04-19-19-26-36@infocaslav.cz
DTSTAMP:20260419T172636
Description:
END:VEVENT
END:VCALENDAR
