BEGIN:VCALENDAR
VERSION:2.0
PRODID:-//www.gramonet.cz//GramonetCalLib 1.0//EN
CALSCALE:GREGORIAN
METHOD:PUBLISH
BEGIN:VEVENT
SUMMARY:Panství Downton: Nová éra
LOCATION:Kino Miloše Formana, Jeníkovská 138/25, 28601
DTSTART:20220429T000000
DTEND:20220430T000000
UID:2026-04-19-19-33-04@infocaslav.cz
DTSTAMP:20260419T173304
Description:
END:VEVENT
END:VCALENDAR
