BEGIN:VCALENDAR
VERSION:2.0
PRODID:-//www.gramonet.cz//GramonetCalLib 1.0//EN
CALSCALE:GREGORIAN
METHOD:PUBLISH
BEGIN:VEVENT
SUMMARY:Párty Hárder: Summer Massacre
LOCATION:Kino Miloše Formana, Jeníkovská 138/25, 28601
DTSTART:20220708T000000
DTEND:20220709T000000
UID:2026-04-19-19-32-45@infocaslav.cz
DTSTAMP:20260419T173245
Description:
END:VEVENT
END:VCALENDAR
