BEGIN:VCALENDAR
VERSION:2.0
PRODID:-//www.gramonet.cz//GramonetCalLib 1.0//EN
CALSCALE:GREGORIAN
METHOD:PUBLISH
BEGIN:VEVENT
SUMMARY:Pečeme a zdobíme cupcakes
LOCATION:Dům dětí a mládeže Čáslav, Jeníkovská 222
DTSTART:20220305T000000
DTEND:20220306T000000
UID:2026-04-19-19-32-57@infocaslav.cz
DTSTAMP:20260419T173257
Description:
END:VEVENT
END:VCALENDAR
