BEGIN:VCALENDAR
VERSION:2.0
PRODID:-//www.gramonet.cz//GramonetCalLib 1.0//EN
CALSCALE:GREGORIAN
METHOD:PUBLISH
BEGIN:VEVENT
SUMMARY:PEKLO S JEŽIBABOU
LOCATION:Dusíkovo divadlo Čáslav, Masarykova 194/36
DTSTART:20220306T000000
DTEND:20220307T000000
UID:2026-04-19-19-33-00@infocaslav.cz
DTSTAMP:20260419T173300
Description:
END:VEVENT
END:VCALENDAR
