BEGIN:VCALENDAR
VERSION:2.0
PRODID:-//www.gramonet.cz//GramonetCalLib 1.0//EN
CALSCALE:GREGORIAN
METHOD:PUBLISH
BEGIN:VEVENT
SUMMARY:Petr Háj - výstava
LOCATION:Klub Gumárna Bar K. Pazderského 2045, 28601 Čáslav-Nové Měst
 o, Česko
DTSTART:20220511T000000
DTEND:20220512T000000
UID:2026-04-19-19-33-05@infocaslav.cz
DTSTAMP:20260419T173305
Description:
END:VEVENT
END:VCALENDAR
