BEGIN:VCALENDAR
VERSION:2.0
PRODID:-//www.gramonet.cz//GramonetCalLib 1.0//EN
CALSCALE:GREGORIAN
METHOD:PUBLISH
BEGIN:VEVENT
SUMMARY:Petra Soukupová - setkání
LOCATION:Knihovna
DTSTART:20230420T000000
DTEND:20230421T000000
UID:2026-04-19-19-31-29@infocaslav.cz
DTSTAMP:20260419T173129
Description:
END:VEVENT
END:VCALENDAR
