BEGIN:VCALENDAR
VERSION:2.0
PRODID:-//www.gramonet.cz//GramonetCalLib 1.0//EN
CALSCALE:GREGORIAN
METHOD:PUBLISH
BEGIN:VEVENT
SUMMARY:Pěvecký   koncert  posluchačů pražské konservatoře třídy p
 rof. Jiřího Kotouče
LOCATION:Evangelický kostel
DTSTART:20221005T000000
DTEND:20221006T000000
UID:2026-04-19-19-37-18@infocaslav.cz
DTSTAMP:20260419T173718
Description:
END:VEVENT
END:VCALENDAR
