BEGIN:VCALENDAR
VERSION:2.0
PRODID:-//www.gramonet.cz//GramonetCalLib 1.0//EN
CALSCALE:GREGORIAN
METHOD:PUBLISH
BEGIN:VEVENT
SUMMARY:PhDr. Petra Bělohlávková, PhD. - Čáslavský rodák, skladatel 
 a hudební publicista Silvestr Hipman
LOCATION:Nová scéna Dusíkova divadla, Čáslav
DTSTART:20241210T000000
DTEND:20241211T000000
UID:2026-04-19-19-37-16@infocaslav.cz
DTSTAMP:20260419T173716
Description:
END:VEVENT
END:VCALENDAR
