BEGIN:VCALENDAR
VERSION:2.0
PRODID:-//www.gramonet.cz//GramonetCalLib 1.0//EN
CALSCALE:GREGORIAN
METHOD:PUBLISH
BEGIN:VEVENT
SUMMARY:Ples - Střední zemědělská škola Čáslav
LOCATION:hotel Grand, nám. Jana Žižky z Trocnova 74/11
DTSTART:20220624T000000
DTEND:20220625T000000
UID:2026-04-19-21-23-53@infocaslav.cz
DTSTAMP:20260419T192353
Description:
END:VEVENT
END:VCALENDAR
