BEGIN:VCALENDAR
VERSION:2.0
PRODID:-//www.gramonet.cz//GramonetCalLib 1.0//EN
CALSCALE:GREGORIAN
METHOD:PUBLISH
BEGIN:VEVENT
SUMMARY:Po čem muži touží 2
LOCATION:Kino Miloše Formana, Jeníkovská 138/25, 28601
DTSTART:20220421T000000
DTEND:20220422T000000
UID:2026-04-19-19-34-52@infocaslav.cz
DTSTAMP:20260419T173452
Description:
END:VEVENT
END:VCALENDAR
