BEGIN:VCALENDAR
VERSION:2.0
PRODID:-//www.gramonet.cz//GramonetCalLib 1.0//EN
CALSCALE:GREGORIAN
METHOD:PUBLISH
BEGIN:VEVENT
SUMMARY:Pochod Apolena
LOCATION:Kouřimská skála
DTSTART:20240907T000000
DTEND:20240908T000000
UID:2026-04-19-19-31-29@infocaslav.cz
DTSTAMP:20260419T173129
Description:
END:VEVENT
END:VCALENDAR
