BEGIN:VCALENDAR
VERSION:2.0
PRODID:-//www.gramonet.cz//GramonetCalLib 1.0//EN
CALSCALE:GREGORIAN
METHOD:PUBLISH
BEGIN:VEVENT
SUMMARY:Podzim na vsi
LOCATION:Muzeum lidových staveb v Kouřimi
DTSTART:20241005T000000
DTEND:20241006T000000
UID:2026-04-19-19-32-42@infocaslav.cz
DTSTAMP:20260419T173242
Description:Podzim na vsi proběhne 5. října 2024 v Muzeu lidových stave
 b v Kouřimi od 10 - 16 hod. Těšit se můžete na pečení brambor\, zpr
 acovávání vlny\, mlácení obilí a další zajímavé aktivity.
END:VEVENT
END:VCALENDAR
